BEGIN:VCALENDAR
VERSION:2.0
PRODID:-//Contratero//ES
CALSCALE:GREGORIAN
METHOD:PUBLISH
BEGIN:VEVENT
UID:51/2025  MIXTO PA@contratero.es
DTSTAMP:20260419T214758Z
DTSTART:20251124T235959
DTEND:20251125T005959
SUMMARY:Cierre: Adquisición de licencias de Office 365 e implantac
DESCRIPTION:Adquisición de licencias de Office 365 e implantación y configuración de los Tenant donde se alojarán dichas licencias y migración desde la actual plataforma de Zimbra \,al nuevo entorno.\nIgualmente\, y...\\n\\nOrganismo: Presidencia de la Diputación Provincial de Cáceres\\n\\nVer en Contratero: https://contratero.es/contracts/51/2025  MIXTO PA
URL:https://contratero.es/contracts/51/2025  MIXTO PA
STATUS:CONFIRMED
BEGIN:VALARM
TRIGGER:-P1D
ACTION:DISPLAY
DESCRIPTION:Recordatorio: Adquisición de licencias de Of
END:VALARM
END:VEVENT
END:VCALENDAR